BEGIN:VCALENDAR
VERSION:2.0
PRODID:Events Booking
BEGIN:VEVENT
UID:69e4c82e70161
SUMMARY:Whisky in Leiden - Middag
DESCRIPTION:Proef\, ontdek en geniet: Whisky in Leiden is terug!
 Goed nie
 uws voor whiskyliefhebbers én nieuwsgierige beginners: op zaterdag 6 juni
  2026 opent de prachtige Hooglandse Kerk in Leiden opnieuw haar deuren voo
 r het meest sfeervolle whiskyfestival van Nederland – Whisky in Leiden 2
 026!
LOCATION:Leiden\, 2312 KH Zuid-Holland\, Nederland
DTSTART:20260606T130000Z
DTEND:20260606T163000Z
DTSTAMP:20260116T222444Z
ORGANIZER;CN=event Slijterij de Druiventuin:MAILTO:tino@whiskysite.nl
GEO:52.158018;4.494838
X-APPLE-STRUCTURED-LOCATION;VALUE=URI;X-ADDRESS=Leiden\, 2312 KH Zuid-Holla
 nd\, Nederland;X-APPLE-RADIUS=72;X-TITLE=Hooglandse Kerk Hoek :52.158018;4
 .494838
END:VEVENT
END:VCALENDAR